BEGIN:VCALENDAR
VERSION:2.0
PRODID:-//USC Phi Alpha Honor Society - ECPv6.15.1.1//NONSGML v1.0//EN
CALSCALE:GREGORIAN
METHOD:PUBLISH
X-ORIGINAL-URL:https://uscphialpha.org
X-WR-CALDESC:Events for USC Phi Alpha Honor Society
REFRESH-INTERVAL;VALUE=DURATION:PT1H
X-Robots-Tag:noindex
X-PUBLISHED-TTL:PT1H
BEGIN:VTIMEZONE
TZID:America/Los_Angeles
BEGIN:DAYLIGHT
TZOFFSETFROM:-0800
TZOFFSETTO:-0700
TZNAME:PDT
DTSTART:20220313T100000
END:DAYLIGHT
BEGIN:STANDARD
TZOFFSETFROM:-0700
TZOFFSETTO:-0800
TZNAME:PST
DTSTART:20221106T090000
END:STANDARD
BEGIN:DAYLIGHT
TZOFFSETFROM:-0800
TZOFFSETTO:-0700
TZNAME:PDT
DTSTART:20230312T100000
END:DAYLIGHT
BEGIN:STANDARD
TZOFFSETFROM:-0700
TZOFFSETTO:-0800
TZNAME:PST
DTSTART:20231105T090000
END:STANDARD
BEGIN:DAYLIGHT
TZOFFSETFROM:-0800
TZOFFSETTO:-0700
TZNAME:PDT
DTSTART:20240310T100000
END:DAYLIGHT
BEGIN:STANDARD
TZOFFSETFROM:-0700
TZOFFSETTO:-0800
TZNAME:PST
DTSTART:20241103T090000
END:STANDARD
END:VTIMEZONE
BEGIN:VEVENT
DTSTART;TZID=America/Los_Angeles:20241025T180000
DTEND;TZID=America/Los_Angeles:20241025T193000
DTSTAMP:20260423T125140
CREATED:20241003T012340Z
LAST-MODIFIED:20241003T012340Z
UID:1984-1729879200-1729884600@uscphialpha.org
SUMMARY:Join us for Suicide Prevention Training!
DESCRIPTION:Come Join us at this Suicide Prevention Training! \nDate: Friday\, October 25\nTime: 6:00 pm to 7:30 PM\nVenue: Zoom Meeting \nDidi Hirsch Suicide Prevention Training Event
URL:https://uscphialpha.org/event/join-us-for-suicide-prevention-training/
LOCATION:Online
END:VEVENT
BEGIN:VEVENT
DTSTART;TZID=America/Los_Angeles:20240410T170000
DTEND;TZID=America/Los_Angeles:20240410T190000
DTSTAMP:20260423T125140
CREATED:20240311T043122Z
LAST-MODIFIED:20240311T043122Z
UID:1951-1712768400-1712775600@uscphialpha.org
SUMMARY:Panel of Different Disciplines
DESCRIPTION:Phi Alpha is inviting you to our Panel of Different Disciplines virtual event. \nThe speakers are set\, the date is set\, all we are missing is you💛 \nWhen: Apr 10\, 2024 @ 5:00 PM Pacific Time (US and Canada) \nRegister in advance for this meeting:\nhttps://usc.zoom.us/meeting/register/tJEpf-6hpj8rHNB5KkY1lIGNjvqYk1Iucfdw \nAfter registering\, you will receive a confirmation email containing information about joining the meeting. \n  \nPanel of Different Disciplines Flyer (5)
URL:https://uscphialpha.org/event/panel-of-different-disciplines/
END:VEVENT
BEGIN:VEVENT
DTSTART;TZID=America/Los_Angeles:20240323T090000
DTEND;TZID=America/Los_Angeles:20240323T130000
DTSTAMP:20260423T125140
CREATED:20240313T031701Z
LAST-MODIFIED:20240313T031806Z
UID:1964-1711184400-1711198800@uscphialpha.org
SUMMARY:Research Symposium virtual event
DESCRIPTION:Phi Alpha is inviting you to our Research Symposium virtual event. \nThe speakers are set\, the date is set\, all we are missing is you💛 \nEvent Details \nDate:             March 23\, 2024 \nTime:            9:00 am – 1:00 pm PST \nPresenters:   \nDr. Margaret Miles\, DSW\, LICSW – \nRepresenting Phi Alpha Chapter – Lota Rho \nVermont State University \n  \nDr. Erica Wortherly\, PhD\, DSW student \nRepresenting Phi Alpha Chapter – Phi Tau \nCapella University \n  \nDr. Laura Honegger\, PhD\, LCSW \n Representing Phi Alpha Chapter – Kappa Rho \nIllinois\, University of St. Francis \n  \nDr. Shannon Johnson\, PhD\, MSW\, LSW\, MPP \nRepresenting Phi Alpha Chapter – Delta Kappa Phi \nUniversity of Colorado Colorado Springs \n  \n  \nRegister in advance for this meeting:\nClick here \nAfter registering\, you will receive a confirmation email containing information about joining the meeting.  \nResearch Symposium Flyer
URL:https://uscphialpha.org/event/research-symposium-virtual-event-2/
END:VEVENT
BEGIN:VEVENT
DTSTART;TZID=America/Los_Angeles:20240217T120000
DTEND;TZID=America/Los_Angeles:20240217T130000
DTSTAMP:20260423T125140
CREATED:20240207T020355Z
LAST-MODIFIED:20240207T020355Z
UID:1860-1708171200-1708174800@uscphialpha.org
SUMMARY:Informational Meeting  for  Prospective Members
DESCRIPTION:Flyer \nHello Trojans! \nJoin us for an informational session on February 17\, 2024 from 12:00 to 1:00pm via the zoom platform. We will be talking about the benefits of being part of the Phi Alpha Honor Society\, membership criteria\, how to fill out an application. \nWe can’t wait to see you there! If you are already member please share and invite classmates and/or friends. \nFight On!
URL:https://uscphialpha.org/event/informational-meeting-for-prospective-members/
LOCATION:Online
END:VEVENT
BEGIN:VEVENT
DTSTART;TZID=America/Los_Angeles:20240217T100000
DTEND;TZID=America/Los_Angeles:20240217T120000
DTSTAMP:20260423T125140
CREATED:20240207T014450Z
LAST-MODIFIED:20240207T014450Z
UID:1855-1708164000-1708171200@uscphialpha.org
SUMMARY:
DESCRIPTION:Beach Clean Up Flyer \nParticipation in this event can go toward your philanthropy hours for the spring semester and provides an opportunity to meet and volunteer alongside your fellow Phi Alpha members\, including members of the Phi Alpha Executive Board! \n\nPer Heal the Bay: Participants must sign a waiver form and bring it with them\, submit a digital waiver\, or sign a waiver upon arrival. On the waiver form\, please indicate that you are with group Chelise Myers/Phi Alpha Honor Society. \n\nSupplies will be provided on a first-come-first-serve basis\, so members are encouraged to bring their own buckets and gloves. Reusable gloves are best for the environment 🙂 \n\nAdditionally\, please take pictures during the clean-up so we can feature them in our monthly Phi Alpha Newsletter. 
URL:https://uscphialpha.org/event/1855/
LOCATION:Cabrillo Beach\, 3800 Stephen M White Dr\, San Pedro\, CA\, 90731\, United States
END:VEVENT
BEGIN:VEVENT
DTSTART;TZID=America/Los_Angeles:20221015T110000
DTEND;TZID=America/Los_Angeles:20221015T123000
DTSTAMP:20260423T125140
CREATED:20221011T002551Z
LAST-MODIFIED:20221011T002736Z
UID:1570-1665831600-1665837000@uscphialpha.org
SUMMARY:Virtual Social Event
DESCRIPTION:Join us on Saturday\, October 15 for a Virtual Social Event! \nRSVP HERE! 
URL:https://uscphialpha.org/event/virtual-social-event/
LOCATION:Online
END:VEVENT
END:VCALENDAR